BEGIN:VCALENDAR
VERSION:2.0
PRODID:-//Valley Trail Riders - ECPv6.15.20//NONSGML v1.0//EN
CALSCALE:GREGORIAN
METHOD:PUBLISH
X-WR-CALNAME:Valley Trail Riders
X-ORIGINAL-URL:https://valleytrailriders.club
X-WR-CALDESC:Events for Valley Trail Riders
REFRESH-INTERVAL;VALUE=DURATION:PT1H
X-Robots-Tag:noindex
X-PUBLISHED-TTL:PT1H
BEGIN:VTIMEZONE
TZID:America/Chicago
BEGIN:DAYLIGHT
TZOFFSETFROM:-0600
TZOFFSETTO:-0500
TZNAME:CDT
DTSTART:20250309T080000
END:DAYLIGHT
BEGIN:STANDARD
TZOFFSETFROM:-0500
TZOFFSETTO:-0600
TZNAME:CST
DTSTART:20251102T070000
END:STANDARD
BEGIN:DAYLIGHT
TZOFFSETFROM:-0600
TZOFFSETTO:-0500
TZNAME:CDT
DTSTART:20260308T080000
END:DAYLIGHT
BEGIN:STANDARD
TZOFFSETFROM:-0500
TZOFFSETTO:-0600
TZNAME:CST
DTSTART:20261101T070000
END:STANDARD
BEGIN:DAYLIGHT
TZOFFSETFROM:-0600
TZOFFSETTO:-0500
TZNAME:CDT
DTSTART:20270314T080000
END:DAYLIGHT
BEGIN:STANDARD
TZOFFSETFROM:-0500
TZOFFSETTO:-0600
TZNAME:CST
DTSTART:20271107T070000
END:STANDARD
END:VTIMEZONE
BEGIN:VEVENT
DTSTART;TZID=America/Chicago:20260306T164500
DTEND;TZID=America/Chicago:20260306T213000
DTSTAMP:20260423T111126
CREATED:20260223T190747Z
LAST-MODIFIED:20260226T033910Z
UID:3942-1772815500-1772832600@valleytrailriders.club
SUMMARY:Dinner and Dance at the Belvidere Moose Club
DESCRIPTION:Dinner and Dance at the Belvidere Moose Club\, 575 Beloit Road\, Belvidere\, IL. \n4:45 Cocktails \n5:30 Dinner – 2pc Fish dinner with sides \n7-9:30 Country Band/Dale Roddy \nCall in reservations to Lesley Wheeler by February 28th 815-742-7497
URL:https://valleytrailriders.club/event/dinner-and-dance-at-the-belvidere-moose-club/
LOCATION:Belvidere Moose Club\, 575 Beloit Road\, Belvidere\, IL\, 61008\, United States
END:VEVENT
BEGIN:VEVENT
DTSTART;TZID=America/Chicago:20260310T183000
DTEND;TZID=America/Chicago:20260310T200000
DTSTAMP:20260423T111126
CREATED:20260103T220414Z
LAST-MODIFIED:20260223T191023Z
UID:3919-1773167400-1773172800@valleytrailriders.club
SUMMARY:Club meeting
DESCRIPTION: Club meeting 6:30 pm at the Cookhouse at Lockwood Park\, 5201 Safford Rd\, Rockford\, IL.  Bring an appetizer to share if you like.
URL:https://valleytrailriders.club/event/club-meeting-2/
LOCATION:Lockwood Park CookHouse\, 5201 Safford Rd\,\, Rockford\, IL\, 61101\, United States
ORGANIZER;CN="Lorrie Busby":MAILTO:lorrieconry@gmail.com
END:VEVENT
BEGIN:VEVENT
DTSTART;TZID=America/Chicago:20260321T120000
DTEND;TZID=America/Chicago:20260321T160000
DTSTAMP:20260423T111126
CREATED:20260103T220733Z
LAST-MODIFIED:20260226T032554Z
UID:3921-1774094400-1774108800@valleytrailriders.club
SUMMARY:Craft Day /Pot Luck
DESCRIPTION:March 21st  Craft day /Pot Luck starting @ noon\, at Yvonne Comm’s Home\, 663 Hampshire Drive\, Hampshire\, IL – All supplies will be furnished for the craft.  Yvonne is making a big pot of soup.  You may bring a side dish or snacks if you like.  (You may want to carpool\, as it is about an hour away from most members)
URL:https://valleytrailriders.club/event/craft-day-pot-luck/
LOCATION:Yvonne Comm’s Home
END:VEVENT
END:VCALENDAR