BEGIN:VCALENDAR
VERSION:2.0
PRODID:-//Valley Trail Riders - ECPv6.15.20//NONSGML v1.0//EN
CALSCALE:GREGORIAN
METHOD:PUBLISH
X-ORIGINAL-URL:https://valleytrailriders.club
X-WR-CALDESC:Events for Valley Trail Riders
REFRESH-INTERVAL;VALUE=DURATION:PT1H
X-Robots-Tag:noindex
X-PUBLISHED-TTL:PT1H
BEGIN:VTIMEZONE
TZID:America/Chicago
BEGIN:DAYLIGHT
TZOFFSETFROM:-0600
TZOFFSETTO:-0500
TZNAME:CDT
DTSTART:20250309T080000
END:DAYLIGHT
BEGIN:STANDARD
TZOFFSETFROM:-0500
TZOFFSETTO:-0600
TZNAME:CST
DTSTART:20251102T070000
END:STANDARD
BEGIN:DAYLIGHT
TZOFFSETFROM:-0600
TZOFFSETTO:-0500
TZNAME:CDT
DTSTART:20260308T080000
END:DAYLIGHT
BEGIN:STANDARD
TZOFFSETFROM:-0500
TZOFFSETTO:-0600
TZNAME:CST
DTSTART:20261101T070000
END:STANDARD
BEGIN:DAYLIGHT
TZOFFSETFROM:-0600
TZOFFSETTO:-0500
TZNAME:CDT
DTSTART:20270314T080000
END:DAYLIGHT
BEGIN:STANDARD
TZOFFSETFROM:-0500
TZOFFSETTO:-0600
TZNAME:CST
DTSTART:20271107T070000
END:STANDARD
END:VTIMEZONE
BEGIN:VEVENT
DTSTART;VALUE=DATE:20260704
DTEND;VALUE=DATE:20260705
DTSTAMP:20260423T165324
CREATED:20260314T202709Z
LAST-MODIFIED:20260314T202709Z
UID:4001-1783123200-1783209599@valleytrailriders.club
SUMMARY:Patriotic Camping
DESCRIPTION:Trail Ride 10:30am \nPotluck 5:30
URL:https://valleytrailriders.club/event/patriotic-camping/
LOCATION:Franklin Creek\, 1893 Twist Road\, Franklin Grove\, IL\, 61031
CATEGORIES:Trail Ride Event
ORGANIZER;CN="Lorrie Busby":MAILTO:lorrieconry@gmail.com
END:VEVENT
BEGIN:VEVENT
DTSTART;VALUE=DATE:20260705
DTEND;VALUE=DATE:20260706
DTSTAMP:20260423T165324
CREATED:20260314T203021Z
LAST-MODIFIED:20260314T203021Z
UID:4003-1783209600-1783295999@valleytrailriders.club
SUMMARY:Trail Ride
DESCRIPTION:Trail Ride 10:30am \nDine and Dash Member campsites 2pm-4pm
URL:https://valleytrailriders.club/event/trail-ride/
LOCATION:Franklin Creek\, 1893 Twist Road\, Franklin Grove\, IL\, 61031
CATEGORIES:Trail Ride Event
ORGANIZER;CN="Lorrie Busby":MAILTO:lorrieconry@gmail.com
END:VEVENT
BEGIN:VEVENT
DTSTART;VALUE=DATE:20260718
DTEND;VALUE=DATE:20260719
DTSTAMP:20260423T165324
CREATED:20260314T203407Z
LAST-MODIFIED:20260314T203407Z
UID:4005-1784332800-1784419199@valleytrailriders.club
SUMMARY:Camping Weekend Seward Bluffs Club Meeting
DESCRIPTION:Bring your pie irons \nTrail Ride 10:30 \nPotluck 5:30 \nClub meeting 6:30
URL:https://valleytrailriders.club/event/camping-weekend-seward-bluffs-club-meeting/
LOCATION:Seward Bluffs\, 16999 Comly Road\, Seward\, IL\, 61077\, United States
END:VEVENT
BEGIN:VEVENT
DTSTART;VALUE=DATE:20260719
DTEND;VALUE=DATE:20260720
DTSTAMP:20260423T165324
CREATED:20260314T203542Z
LAST-MODIFIED:20260314T203542Z
UID:4007-1784419200-1784505599@valleytrailriders.club
SUMMARY:Trail Ride Seward Bluffs
DESCRIPTION:Trail Ride 10:30
URL:https://valleytrailriders.club/event/trail-ride-seward-bluffs/
LOCATION:Seward Bluffs\, 16999 Comly Road\, Seward\, IL\, 61077\, United States
END:VEVENT
BEGIN:VEVENT
DTSTART;VALUE=DATE:20260829
DTEND;VALUE=DATE:20260830
DTSTAMP:20260423T165324
CREATED:20260314T204048Z
LAST-MODIFIED:20260314T204316Z
UID:4009-1787961600-1788047999@valleytrailriders.club
SUMMARY:Camping Weekend Rockcut
DESCRIPTION:Trail Ride 10:30am \nDinner 5:30pm \n 
URL:https://valleytrailriders.club/event/camping-weekend-rockcut-2/
LOCATION:Rock Cut State Park Equestrian Trail\, 5475-5553 Hart Road\, Loves Park\, IL\, 61111\, United States
CATEGORIES:Trail Ride Event
END:VEVENT
BEGIN:VEVENT
DTSTART;VALUE=DATE:20260830
DTEND;VALUE=DATE:20260831
DTSTAMP:20260423T165324
CREATED:20260314T204522Z
LAST-MODIFIED:20260314T204522Z
UID:4013-1788048000-1788134399@valleytrailriders.club
SUMMARY:Trail Ride Rockcut
DESCRIPTION:Trail Ride 10:30am
URL:https://valleytrailriders.club/event/trail-ride-rockcut-2/
LOCATION:Rock Cut State Park Equestrian Trail\, 5475-5553 Hart Road\, Loves Park\, IL\, 61111\, United States
CATEGORIES:Trail ride
END:VEVENT
BEGIN:VEVENT
DTSTART;VALUE=DATE:20260903
DTEND;VALUE=DATE:20260908
DTSTAMP:20260423T165324
CREATED:20260314T205511Z
LAST-MODIFIED:20260314T205511Z
UID:4015-1788393600-1788825599@valleytrailriders.club
SUMMARY:Labor day weekend Camping Jubilee College Start Park
DESCRIPTION:No electricity \nNo Reservations \nSept 5th Trail Ride 10:30am Potluck 5:30pm \nSept. 6 Trail Ride 10:30am
URL:https://valleytrailriders.club/event/labor-day-weekend-camping-jubilee-college-start-park/
LOCATION:Jubilee College State Park\, W Fussner Rd\, Brimfield\, IL\, 61517\, United States
CATEGORIES:Trail Ride Event
END:VEVENT
BEGIN:VEVENT
DTSTART;VALUE=DATE:20260919
DTEND;VALUE=DATE:20260920
DTSTAMP:20260423T165324
CREATED:20260314T210241Z
LAST-MODIFIED:20260314T210241Z
UID:4019-1789776000-1789862399@valleytrailriders.club
SUMMARY:Camping weekend Rockcut
DESCRIPTION:Trail Ride 10:30a\, \nSteak Fry 5:30 \nClub Meeting 6:30
URL:https://valleytrailriders.club/event/camping-weekend-rockcut-3/
LOCATION:Rock Cut State Park Equestrian Trail\, 5475-5553 Hart Road\, Loves Park\, IL\, 61111\, United States
END:VEVENT
BEGIN:VEVENT
DTSTART;VALUE=DATE:20260920
DTEND;VALUE=DATE:20260921
DTSTAMP:20260423T165324
CREATED:20260314T210504Z
LAST-MODIFIED:20260314T210504Z
UID:4023-1789862400-1789948799@valleytrailriders.club
SUMMARY:Trail Ride Rockcut
DESCRIPTION:Trail Ride 10:30am
URL:https://valleytrailriders.club/event/trail-ride-rockcut-3/
LOCATION:Rock Cut State Park Equestrian Trail\, 5475-5553 Hart Road\, Loves Park\, IL\, 61111\, United States
CATEGORIES:Trail ride
END:VEVENT
BEGIN:VEVENT
DTSTART;VALUE=DATE:20260924
DTEND;VALUE=DATE:20260929
DTSTAMP:20260423T165324
CREATED:20260314T211336Z
LAST-MODIFIED:20260314T211336Z
UID:4025-1790208000-1790639999@valleytrailriders.club
SUMMARY:Camping Little Lusk Trail Shawnee
DESCRIPTION:Electric at sites \nReservations required
URL:https://valleytrailriders.club/event/camping-little-lusk-trail-shawnee/
LOCATION:LITTLE LUSK TRAIL\, 50 Barger Rd\, Stonefort\, IL\, 62987\, United States
CATEGORIES:Trail Ride Event
END:VEVENT
BEGIN:VEVENT
DTSTART;VALUE=DATE:20260926
DTEND;VALUE=DATE:20260927
DTSTAMP:20260423T165324
CREATED:20260314T211911Z
LAST-MODIFIED:20260314T211911Z
UID:4029-1790380800-1790467199@valleytrailriders.club
SUMMARY:Camping Weekend Morrison Rockwood
DESCRIPTION:Trail Ride 11:00am \nPotluck 5:30pm
URL:https://valleytrailriders.club/event/camping-weekend-morrison-rockwood/
LOCATION:Morrison Rockwood State Park\, 18750 Lake Rd\, Morrison\, IL\, 61270\, United States
CATEGORIES:Trail Ride Event
END:VEVENT
BEGIN:VEVENT
DTSTART;VALUE=DATE:20260927
DTEND;VALUE=DATE:20260928
DTSTAMP:20260423T165324
CREATED:20260314T212210Z
LAST-MODIFIED:20260314T212210Z
UID:4032-1790467200-1790553599@valleytrailriders.club
SUMMARY:Trail Ride Morrison
DESCRIPTION:Trail Ride 11:00am
URL:https://valleytrailriders.club/event/trail-ride-morrison/
LOCATION:Morrison Rockwood State Park\, 18750 Lake Rd\, Morrison\, IL\, 61270\, United States
CATEGORIES:Trail ride
END:VEVENT
END:VCALENDAR