BEGIN:VCALENDAR
VERSION:2.0
PRODID:-//Valley Trail Riders - ECPv6.15.20//NONSGML v1.0//EN
CALSCALE:GREGORIAN
METHOD:PUBLISH
X-ORIGINAL-URL:https://valleytrailriders.club
X-WR-CALDESC:Events for Valley Trail Riders
REFRESH-INTERVAL;VALUE=DURATION:PT1H
X-Robots-Tag:noindex
X-PUBLISHED-TTL:PT1H
BEGIN:VTIMEZONE
TZID:America/Chicago
BEGIN:DAYLIGHT
TZOFFSETFROM:-0600
TZOFFSETTO:-0500
TZNAME:CDT
DTSTART:20250309T080000
END:DAYLIGHT
BEGIN:STANDARD
TZOFFSETFROM:-0500
TZOFFSETTO:-0600
TZNAME:CST
DTSTART:20251102T070000
END:STANDARD
BEGIN:DAYLIGHT
TZOFFSETFROM:-0600
TZOFFSETTO:-0500
TZNAME:CDT
DTSTART:20260308T080000
END:DAYLIGHT
BEGIN:STANDARD
TZOFFSETFROM:-0500
TZOFFSETTO:-0600
TZNAME:CST
DTSTART:20261101T070000
END:STANDARD
BEGIN:DAYLIGHT
TZOFFSETFROM:-0600
TZOFFSETTO:-0500
TZNAME:CDT
DTSTART:20270314T080000
END:DAYLIGHT
BEGIN:STANDARD
TZOFFSETFROM:-0500
TZOFFSETTO:-0600
TZNAME:CST
DTSTART:20271107T070000
END:STANDARD
END:VTIMEZONE
BEGIN:VEVENT
DTSTART;VALUE=DATE:20260606
DTEND;VALUE=DATE:20260607
DTSTAMP:20260423T135244
CREATED:20260314T185924Z
LAST-MODIFIED:20260314T185924Z
UID:3993-1780704000-1780790399@valleytrailriders.club
SUMMARY:Camping Weekend Rockcut
DESCRIPTION:Trail ride 10am and 1:30pm \nCampfire Cooking Dinner 6pm \n 
URL:https://valleytrailriders.club/event/camping-weekend-rockcut/
LOCATION:Rock Cut State Park Equestrian Trail\, 5475-5553 Hart Road\, Loves Park\, IL\, 61111\, United States
CATEGORIES:Trail Ride Event
END:VEVENT
END:VCALENDAR