BEGIN:VCALENDAR
VERSION:2.0
PRODID:-//Valley Trail Riders - ECPv6.15.20//NONSGML v1.0//EN
CALSCALE:GREGORIAN
METHOD:PUBLISH
X-ORIGINAL-URL:https://valleytrailriders.club
X-WR-CALDESC:Events for Valley Trail Riders
REFRESH-INTERVAL;VALUE=DURATION:PT1H
X-Robots-Tag:noindex
X-PUBLISHED-TTL:PT1H
BEGIN:VTIMEZONE
TZID:America/Chicago
BEGIN:DAYLIGHT
TZOFFSETFROM:-0600
TZOFFSETTO:-0500
TZNAME:CDT
DTSTART:20250309T080000
END:DAYLIGHT
BEGIN:STANDARD
TZOFFSETFROM:-0500
TZOFFSETTO:-0600
TZNAME:CST
DTSTART:20251102T070000
END:STANDARD
BEGIN:DAYLIGHT
TZOFFSETFROM:-0600
TZOFFSETTO:-0500
TZNAME:CDT
DTSTART:20260308T080000
END:DAYLIGHT
BEGIN:STANDARD
TZOFFSETFROM:-0500
TZOFFSETTO:-0600
TZNAME:CST
DTSTART:20261101T070000
END:STANDARD
BEGIN:DAYLIGHT
TZOFFSETFROM:-0600
TZOFFSETTO:-0500
TZNAME:CDT
DTSTART:20270314T080000
END:DAYLIGHT
BEGIN:STANDARD
TZOFFSETFROM:-0500
TZOFFSETTO:-0600
TZNAME:CST
DTSTART:20271107T070000
END:STANDARD
END:VTIMEZONE
BEGIN:VEVENT
DTSTART;VALUE=DATE:20260515
DTEND;VALUE=DATE:20260519
DTSTAMP:20260423T124717
CREATED:20260223T194154Z
LAST-MODIFIED:20260226T032759Z
UID:3961-1778803200-1779148799@valleytrailriders.club
SUMMARY:Weinberg King Camp and Ride
DESCRIPTION:·         May 15th – 18th Weinberg King Camp and Rides\, hosted by Cindy Hutcheson and Pam Carter. You will need to make your reservations at ExploreMore IL. They should be made ASAP as there’s only 19 sites. All sites have a hitching post and high line poles\, electric\, garbage\, table and water about every 3 sites. Your host will be at site 3 and 4 from May 14th until the 20th cost is $18 a night.  RSVP to Cindy at 815-540-1426 for any questions and let me know if you are coming by March 15\, 2026
URL:https://valleytrailriders.club/event/weinberg-king-camp-and-ride/
LOCATION:Weinberg King Camp and Rides\, IL-101\, Augusta\, IL\, 62311\, United States
END:VEVENT
END:VCALENDAR