BEGIN:VCALENDAR
VERSION:2.0
PRODID:-//Valley Trail Riders - ECPv6.15.20//NONSGML v1.0//EN
CALSCALE:GREGORIAN
METHOD:PUBLISH
X-WR-CALNAME:Valley Trail Riders
X-ORIGINAL-URL:https://valleytrailriders.club
X-WR-CALDESC:Events for Valley Trail Riders
REFRESH-INTERVAL;VALUE=DURATION:PT1H
X-Robots-Tag:noindex
X-PUBLISHED-TTL:PT1H
BEGIN:VTIMEZONE
TZID:America/Chicago
BEGIN:DAYLIGHT
TZOFFSETFROM:-0600
TZOFFSETTO:-0500
TZNAME:CDT
DTSTART:20250309T080000
END:DAYLIGHT
BEGIN:STANDARD
TZOFFSETFROM:-0500
TZOFFSETTO:-0600
TZNAME:CST
DTSTART:20251102T070000
END:STANDARD
BEGIN:DAYLIGHT
TZOFFSETFROM:-0600
TZOFFSETTO:-0500
TZNAME:CDT
DTSTART:20260308T080000
END:DAYLIGHT
BEGIN:STANDARD
TZOFFSETFROM:-0500
TZOFFSETTO:-0600
TZNAME:CST
DTSTART:20261101T070000
END:STANDARD
BEGIN:DAYLIGHT
TZOFFSETFROM:-0600
TZOFFSETTO:-0500
TZNAME:CDT
DTSTART:20270314T080000
END:DAYLIGHT
BEGIN:STANDARD
TZOFFSETFROM:-0500
TZOFFSETTO:-0600
TZNAME:CST
DTSTART:20271107T070000
END:STANDARD
END:VTIMEZONE
BEGIN:VEVENT
DTSTART;VALUE=DATE:20260425
DTEND;VALUE=DATE:20260426
DTSTAMP:20260423T111555
CREATED:20260223T192635Z
LAST-MODIFIED:20260226T032955Z
UID:3955-1777075200-1777161599@valleytrailriders.club
SUMMARY:Trail ride Deer Run
DESCRIPTION:April 25th Winnebago Forest Preserves Deer Run Trail ride and Find the Clue 10:30 am – Hosted by Donna Howland and Cindy Edwards
URL:https://valleytrailriders.club/event/trail-ride-deer-run/
LOCATION:Deer Run\, 5691 River Rd\, Cherry Valley\, 61016\, United States
ORGANIZER;CN="Donna Howland":MAILTO:d_howland@valleytrailriders.clu
END:VEVENT
END:VCALENDAR