BEGIN:VCALENDAR
VERSION:2.0
PRODID:-//Valley Trail Riders - ECPv6.15.20//NONSGML v1.0//EN
CALSCALE:GREGORIAN
METHOD:PUBLISH
X-ORIGINAL-URL:https://valleytrailriders.club
X-WR-CALDESC:Events for Valley Trail Riders
REFRESH-INTERVAL;VALUE=DURATION:PT1H
X-Robots-Tag:noindex
X-PUBLISHED-TTL:PT1H
BEGIN:VTIMEZONE
TZID:America/Chicago
BEGIN:DAYLIGHT
TZOFFSETFROM:-0600
TZOFFSETTO:-0500
TZNAME:CDT
DTSTART:20250309T080000
END:DAYLIGHT
BEGIN:STANDARD
TZOFFSETFROM:-0500
TZOFFSETTO:-0600
TZNAME:CST
DTSTART:20251102T070000
END:STANDARD
BEGIN:DAYLIGHT
TZOFFSETFROM:-0600
TZOFFSETTO:-0500
TZNAME:CDT
DTSTART:20260308T080000
END:DAYLIGHT
BEGIN:STANDARD
TZOFFSETFROM:-0500
TZOFFSETTO:-0600
TZNAME:CST
DTSTART:20261101T070000
END:STANDARD
BEGIN:DAYLIGHT
TZOFFSETFROM:-0600
TZOFFSETTO:-0500
TZNAME:CDT
DTSTART:20270314T080000
END:DAYLIGHT
BEGIN:STANDARD
TZOFFSETFROM:-0500
TZOFFSETTO:-0600
TZNAME:CST
DTSTART:20271107T070000
END:STANDARD
END:VTIMEZONE
BEGIN:VEVENT
DTSTART;TZID=America/Chicago:20260113T183000
DTEND;TZID=America/Chicago:20260113T200000
DTSTAMP:20260423T154750
CREATED:20260103T215221Z
LAST-MODIFIED:20260103T215221Z
UID:3910-1768329000-1768334400@valleytrailriders.club
SUMMARY:Club meeting 6:30 pm at the Cookhouse at Lockwood Park
DESCRIPTION:January 13th Club meeting 6:30 pm Social Committee providing chili – bring a dish to share if you like. Jo and Tim Scott will be doing a demonstration on Karate/Self Defense. Save a stamp and pay your dues for 2026 at the meeting😊
URL:https://valleytrailriders.club/event/club-meeting-630-pm-at-the-cookhouse-at-lockwood-park/
LOCATION:Lockwood Park CookHouse\, 5201 Safford Rd\,\, Rockford\, IL\, 61101\, United States
CATEGORIES:Club Meeting
ORGANIZER;CN="Lorrie Busby":MAILTO:lorrieconry@gmail.com
END:VEVENT
END:VCALENDAR